BEGIN:VCALENDAR
VERSION:2.0
PRODID:-//wp-events-plugin.com//7.2.3.1//EN
TZID:America/Vancouver
X-WR-TIMEZONE:America/Vancouver
BEGIN:VEVENT
UID:96@headplusheart.com
DTSTART;TZID=America/Vancouver:20260402T100000
DTEND;TZID=America/Vancouver:20260423T113000
DTSTAMP:20260323T040825Z
URL:https://www.headplusheart.com/events/season-of-being-four-week-online-
 dance-series/
SUMMARY:Season of Being: Four-Week Online Dance Series
DESCRIPTION:As the Spring Equinox opens a new cycle\, you are invited into 
 a Season of your Sacred Self.\n\nThis four week journey is a space to list
 en to your unique rhythm within\, and return to your essence of ecstatic a
 liveness. It is a time to nourish your whole being\, to awaken new codes o
 f vitality\, and to reconnect to the innate intelligence that dances withi
 n you and is ready to emerge.\n\nSpring carries the frequency of renewal\,
  possibility\, hope\, and loving expansion. It invites you to trust what i
 s unfolding in your favour\, and to move in rhythm with the life force tha
 t is rising through you.\n\nThis is a sacred space for the multifaceted wo
 man. You may be a visionary\, a creative\, a wayshower\, a mentor\, a care
 giver\, or a love-led leader. You may be holding many roles while sensing 
 there is something deeper within you that wants to be felt\, expressed and
  integrated.\n\nThis alchemical journey honours your wholeness and full sp
 ectrum self. It supports your wellbeing\, deepens your connection to your 
 wisdom\, and amplifies your natural state of aliveness.\n\nEach week you w
 ill enter a guided experience with Martine &amp\; Lila that weaves intuiti
 ve movement\, breath\, and heart presence. Through the language of the bod
 y\, you will listen to your inner ecology and allow what is ready to shift
 \, soften\, or awaken to do so with ease.\n\nYou are\, and all of life is 
 made of the four elements. Each element offers a gift of deepening your in
 ner awareness and your co-creation with the living world around you. As yo
 u weave with the wisdom of the four elements\, you cultivate deep trust an
 d inner knowing for what feels sacred and true within. Co-creating with th
 e elemental kingdom will support you to root deeply into the earth\, dream
 -seed your desires\, unfurl your unique expression and rise into your radi
 ance.\n\nThis journey is an invitation to be with what is true in each mom
 ent while also remembering what is possible. It is a space where simplicit
 y becomes profound and where your presence can flourish. As you move throu
 gh these weeks\, you begin to feel the cycle of your next season take form
 .\n\nThis is a season of being.\n\nA season of aliveness.\n\nA season of r
 emembering who you are becoming.\n\n&nbsp\;\nWHAT YOU RECEIVE\n4 SEASON OF
  BEING CEREMONIES\n\nJoin live on Zoom or receive the Recordings each week
  as you journey through the elemental gateways to re-ignite and replenish 
 the body\, mind\, heart and spirit.\n\n✧\n\nINTEGRATION RESOURCES\n\nWee
 kly alchemical reflection and integration tools\, and weekly dance playlis
 ts.\n\n✧\n\nPRIVATE SISTERHOOD CONNECTION\n\nAn online telegram space to
  connect deeper with your season of being sisters\, share your authentic p
 rocess and be a sacred witness to others.\n\n&nbsp\;\nSEASON OF BEING\n4 W
 EEK JOURNEY: APRIL 2  – APRIL 23\, 2026\nTHURSDAYS ONLINE: 10:00AM – 
 11:30AM PDT\n\n$188 CAD Early-Bird on Now\n\n$288 Regular
ATTACH;FMTTYPE=image/jpeg:https://www.headplusheart.com/wp-content/uploads
 /2026/02/Screenshot-2026-02-27-at-2.14.10-PM.png
LOCATION:https://www.headplusheart.com/events/season-of-being-four-week-onl
 ine-dance-series/
END:VEVENT
BEGIN:VTIMEZONE
TZID:America/Vancouver
X-LIC-LOCATION:America/Vancouver
BEGIN:DAYLIGHT
DTSTART:20260308T030000
TZOFFSETFROM:-0800
TZOFFSETTO:-0700
TZNAME:PDT
END:DAYLIGHT
END:VTIMEZONE
END:VCALENDAR