BEGIN:VCALENDAR
VERSION:2.0
PRODID:-//wp-events-plugin.com//7.2.3.1//EN
TZID:America/Vancouver
X-WR-TIMEZONE:America/Vancouver
BEGIN:VEVENT
UID:232@headplusheart.com
DTSTART:20261022T000000Z
DTEND:20261103T000000Z
DTSTAMP:20260415T185428Z
URL:https://www.headplusheart.com/events/sacred-pilgrimage-to-northern-per
 u/
SUMMARY:Sacred Pilgrimage to Northern Peru
DESCRIPTION:A Personal Connection to Apu Huachuma\n\n\nYou are invited to j
 oin a rare and intimate journey through the sacred temples of Northern Per
 u\, culminating at Chavín de Huántar\, the ancestral home of the Apu Hua
 chuma lineage. This pilgrimage is designed for those who want to travel wi
 th intention\, presence\, and a deep connection to the land and its tradit
 ions. Guided personally by Jhaimy Alvarez Acosta\, who has walked the trad
 itional path of an Andean Wisdomkeeper and Curandero for over 30 years\, t
 his journey offers space to slow down\, reflect\, and open to the guidance
  of both the land and your inner self.\n\n&nbsp\;\n\nYour Guides\n\n\n\nGu
 iding this journey to Northern Peru are Maestro Jhaimy Alvarez-Acosta and 
 Payton Nyquvest\, who have traveled and worked together for many years in 
 a shared dedication to personal transformation\, sacred practice\, and mea
 ningful change.\n\n\n\n\nJhaimy\, a Traditional Curandero from Cusco\, Per
 u\, has walked the path of an Andean Wisdomkeeper for over 30 years\, carr
 ying the Mesa teachings and the lineage of Apu Wachumita and his Elders. O
 ver the course of his life’s work\, he has guided countless pilgrimages 
 and sacred journeys throughout the Andes\, and is best known for his humbl
 e\, heart-centered approach to healing\, ceremony\, and spiritual guidance
 .\n\n\n\n\nAlongside him\, Payton\, a Vancouver-based entrepreneur and fou
 nder of Numinus Wellness\, serves as co-facilitator for the journey\, brin
 ging a deep commitment to personal transformation and to supporting the th
 oughtful integration of Indigenous wisdom into the modern world.\n\n\n\n\n
 Together\, they create a grounded and intentional space for participants t
 o engage with the sacred lands and living traditions of Peru with reverenc
 e\, integrity\, and experienced guidance.\n\n&nbsp\;\n\nItinerary\n\n\n\n\
 nDay 1 (Oct 22) – Lima: Arrival\, check-in\, welcome dinner\, orientatio
 n. Overnight Lima\n\n\n\n\nDay 2 (Oct 23) – Lima: Visit Pachacamac. Even
 ing free. Overnight Lima\n\n\n\n\nDay 3 (Oct 24) – Chaclayo: Fly Lima 
 → Chaclayo. Evening teachings &amp\; Ceremony. Overnight Chaclayo\n\n\n\
 n\nDay 4 (Oct 25) – Chaclayo &amp\; Túcume: Visit El Bosque de Puma\, T
 úcume\, &amp\; Museum of Sipán. Overnight Chaclayo\n\n\n\n\nDay 5 (Oct 2
 6) – Trujillo: Visit Huaca del Brujo &amp\; Temple of the Priestess of C
 au. Overnight Trujillo\n\n\n\n\nDay 6 (Oct 27) – Trujillo: Rest\, integr
 ation\, ocean &amp\; moon connection. Overnight Trujillo\n\n\n\n\nDay 7 (O
 ct 28) – Trujillo: Visit Chan Chan &amp\; Huaca of the Moon. Overnight T
 rujillo\n\n\n\n\nDay 8 (Oct 29) – Sechín &amp\; Huaraz: Explore Sechín
  temples\, then travel to Huaraz. Overnight Huaraz\n\n\n\n\nDay 9 (Oct 30)
  – Chavín de Huántar: Arrive at Chavín\, preparation for teachings. O
 vernight Chavín\n\n\n\n\nDay 10 (Oct 31) – Chavín de Huántar: Evening
  teachings &amp\; Ceremony. Overnight Chavín\n\n\n\n\nDay 11 (Nov 1) – 
 Huaraz: Integration and travel back to Huaraz. Overnight Huaraz\n\n\n\n\nD
 ay 12 (Nov 2) – Lima: Return to Lima\, celebration dinner. Overnight Lim
 a\n\n\n\n\nDay 13 (Nov 3) – Departure: International flights home\n\n&nb
 sp\;\n\n\nIncluded in this journey\n\n\n 	All ground transportation to/fro
 m Lima\n 	Domestic flights within Peru\n 	Entrance to all Temples &amp\; s
 acred sites\n 	Private single-occupancy accommodations\n 	Meals: all break
 fasts + Lima welcome dinner\n 	Personal 1:1 session with Jhaimy during the
  journey\n 	Traditional teachings &amp\; two Ceremonies\n\n&nbsp\;\nPrepar
 ation &amp\; integration support\n\n\n 	Pre-trip planning &amp\; concierge
  support\n 	Pre-trip group orientation call (online)\n 	Andean Wisdom teac
 hings and guided study before departure\, providing a strong foundation an
 d context\n 	Post-trip group integration session (online)\n\n&nbsp\;\nNot 
 included\n\n\n 	International flights to/from Lima\n 	Travel medical insur
 ance (required)\n 	Tips and gratuities\n\n&nbsp\;\nInvestment\n\n\n 	$8\,5
 00 USD Early Bird (before May 15)\n 	$10\,000 USD Regular rate\n\n&nbsp\;\
 nBy application and/or personal invitation only\n\n\n\n\n\n&nbsp\;\n\n\n\n
 \n&nbsp\;\n\n\n\n\n&nbsp\;\n\n\n\n\n&nbsp\;\n\n\n\n\n&nbsp\;\n\n\n\n\n&nbs
 p\;\n\n\n\n\n&nbsp\;\n\n\n\n\n&nbsp\;\n\n\n\n\n&nbsp\;\n\n\n\n\n&nbsp\;\n\
 n\n\n\n&nbsp\;\n\n\n\n\n&nbsp\;\n\n\n\n\n&nbsp\;\n\n\n\n\n\n\n
ATTACH;FMTTYPE=image/jpeg:https://www.headplusheart.com/wp-content/uploads
 /2026/03/INVITE-The-Path-Northern-Peru-.png
LOCATION:Lima\, Peru\, Avenida Morales Duárez s/n\, Lima\, Peru
GEO:-12.037353;-77.085
X-APPLE-STRUCTURED-LOCATION;VALUE=URI;X-ADDRESS=Avenida Morales Duárez s/n
 \, Lima\, Peru;X-APPLE-RADIUS=100;X-TITLE=Lima\, Peru:geo:-12.037353,-77.0
 85
END:VEVENT
END:VCALENDAR