BEGIN:VCALENDAR
VERSION:2.0
PRODID:-//wp-events-plugin.com//7.2.3.1//EN
TZID:America/Vancouver
X-WR-TIMEZONE:America/Vancouver
BEGIN:VEVENT
UID:91@headplusheart.com
DTSTART;TZID=America/Vancouver:20260417T160000
DTEND;TZID=America/Vancouver:20260420T133000
DTSTAMP:20260410T065817Z
URL:https://www.headplusheart.com/events/meeting-the-queen-bowen-island-re
 treat-for-women-47/
SUMMARY:Meeting the Queen | Bowen Island Retreat for Women 47 + (Sold Out)
DESCRIPTION:\n\n\n\n\nAPRIL 17 - 20\, 2026 BOWEN ISLAND\nA SACRED SPACE TO 
 RECLAIM YOUR TRUTH\, AWAKEN YOUR VITALITY\, TO GATHER WITH WOMEN CHOOSING 
 SOVEREIGNTY\n\n\n\n\n\n\n\n\n\n\nThere is a Queen inside you!\nNot the ste
 reotype we are taught to avoid: brittle and wicked. And not the one we are
  taught to chase: pleasing and silent. But the Queen who knows!\nShe sees 
 through illusion\, has nothing to prove\, and the power of her radiance of
 fers vitality to the world.\nMeeting the Queen is a 3-night retreat for wo
 men 47+ to dive deep and embody the wisdom of menopause\, shed cultural pr
 ojections of invisibility\, and reclaim the power and magic of our radianc
 e.\nTogether\, we will gather in a sacred container held by the forest\, t
 he stars\, and the sisterhood of other wise women walking this path.\nEARL
 Y BIRD ENDS: MARCH 20\nREGISTRATION CLOSES: APRIL 12\n\n\n\n\n\n
ATTACH;FMTTYPE=image/jpeg:https://www.headplusheart.com/wp-content/uploads
 /2026/02/ocean_wide_open-scaled.jpg
LOCATION:Xenia Retreat Center\, 782 Smith Road\, Bowen Island\, BC\, Canada
GEO:49.401997;-123.358371
X-APPLE-STRUCTURED-LOCATION;VALUE=URI;X-ADDRESS=782 Smith Road\, Bowen Isla
 nd\, BC\, Canada;X-APPLE-RADIUS=100;X-TITLE=Xenia Retreat Center:geo:49.40
 1997,-123.358371
END:VEVENT
BEGIN:VTIMEZONE
TZID:America/Vancouver
X-LIC-LOCATION:America/Vancouver
BEGIN:DAYLIGHT
DTSTART:20260308T030000
TZOFFSETFROM:-0800
TZOFFSETTO:-0700
TZNAME:PDT
END:DAYLIGHT
END:VTIMEZONE
END:VCALENDAR