BEGIN:VCALENDAR
VERSION:2.0
PRODID:-//wp-events-plugin.com//7.2.3.1//EN
TZID:America/Vancouver
X-WR-TIMEZONE:America/Vancouver
BEGIN:VEVENT
UID:237@headplusheart.com
DTSTART:20260503T090000Z
DTEND:20260503T101500Z
DTSTAMP:20260408T004553Z
URL:https://www.headplusheart.com/events/may-3-overwhelmed-anyone/
SUMMARY:May 3: Overwhelmed\, anyone?
DESCRIPTION:Overwhelmed\, anyone?\nHealth\, finances\, the state of the wor
 ld\, the pace of life - for some\, things are going well and still feel fu
 ll to the brim. For others\, things are genuinely hard and also at capacit
 y.\nIn this gentle\, grounded gathering for spiritually-inclined women\, w
 e’ll come together to sit with what’s here. We’ll listen\, tend\, an
 d work with the spirits.\nWe’ll also share a simple group ceremony to he
 lp bring more steadiness\, grace\, and ease\, using simple household items
 .\nWarm welcome to newcomers and longtime friends.\n\n9am pacific • $45 
 • online • 75 minutes • 10 women only
ATTACH;FMTTYPE=image/jpeg:https://www.headplusheart.com/wp-content/uploads
 /2026/04/iStock-12540729011.jpg
LOCATION:https://thedreamingotter.com/the-womens-circle/
END:VEVENT
END:VCALENDAR