BEGIN:VCALENDAR
VERSION:2.0
PRODID:-//wp-events-plugin.com//7.2.3.1//EN
TZID:America/Vancouver
X-WR-TIMEZONE:America/Vancouver
BEGIN:VEVENT
UID:243@headplusheart.com
DTSTART:20260415T191500Z
DTEND:20261223T203000Z
DTSTAMP:20260413T232502Z
URL:https://www.headplusheart.com/events/deep-reset-with-faye-mallett-at-s
 ensorium/
SUMMARY:Deep Reset with Faye Mallett at Sensorium
DESCRIPTION:A deeply immersive\, live sound experience designed to help you
  release accumulated stress and tension\, supporting your nervous system i
 n downshifting into a calm\, regulated state.\nThe Experience\nThe experie
 nce begins before you enter the dome. In the open space of Sensorium\, you
  are guided through a gentle arrival\, often a breath practice or body sca
 n\, to help you transition out of the external world and into your body.\n
 This opening acts as a reset point. Attention shifts inward\, the pace slo
 ws\, and the nervous system begins to settle\, preparing you to receive th
 e experience more deeply.\nFrom here\, you enter the dome and are guided i
 nto stillness. Live instruments begin to unfold\, layered\, responsive\, a
 nd attuned to the energy of the room. Low-frequency vibrations are also fe
 lt through the floor. Sound moves not just around you\, but through you\, 
 creating a deeply felt experience that evolves moment by moment.\nAs the s
 ession deepens\, the body begins to release held tension. The mind quiets.
  Many people drift into a dreamlike state\, somewhere between waking and r
 est\, where the body feels heavy\, supported\, and at ease.\nBecause the s
 ound is live\, no two sessions are exactly the same. Each experience creat
 es a unique pathway towards helping you release\, regulate\, and reset.\nS
 ensory Technology\nDeep Reset blends live performance with Sensorium’s i
 mmersive system to amplify the effects of sound:\n\n\n 	\nGuided Opening P
 rotocols: Breathwork or body-based awareness practices prepare the nervous
  system for deeper reception\n\n 	\nLive Sound Instrumentation: Real-time 
 instruments (e.g.\, bowls\, chimes\, tonal textures) create a responsive\,
  evolving sound field\n\n 	\nSpatial Audio Integration: Live sound is enha
 nced within a 3D auditory environment\, surrounding the body and guiding a
 ttention inward\n\n 	\nVibroacoustic Support: Low-frequency vibration felt
  through the floor grounds the experience in the body and supports physica
 l release\n\n 	\nSoft Light Environment: Minimal\, calming light reduces s
 ensory load and supports down-regulation\n\n 	\nDome Acoustics: The enclos
 ed geometry allows sound to be experienced spatially and physically\, not 
 just audibly\n\n\nThe Science\nThis experience is informed by research acr
 oss breathwork\, sound therapy\, and nervous system regulation:\n\n\n 	\nS
 tate Transitioning (Ritual Entry): Guided breath and body awareness help s
 hift the nervous system out of external vigilance and into internal regula
 tion\n\n 	\nAuditory Entrainment: Layered\, rhythmic sound can guide the b
 rain toward slower states associated with relaxation and reduced mental ac
 tivity\n\n 	\nParasympathetic Activation: Slow\, immersive sensory environ
 ments support a shift into “rest and regulate” states\n\n 	\nVibroacou
 stic Relaxation: Low-frequency vibration stimulates the body\, helping rel
 ease muscular tension and reduce stress\n\n 	\nReduced Cognitive Load: Min
 imal visual and task-based input allows the brain to disengage from overth
 inking and settle\n\n\nThis supports a progression from arrival → unwind
 ing → deep regulation.\nOutcome\nAfter a session\, you may feel:\n\n\n 	
 \nA noticeable release of physical and emotional tension\n\n 	\nA quieter\
 , more settled mind\n\n 	\nA deep sense of relaxation without effort\n\n 	
 \nA feeling of being grounded and present in the body\n\n 	\nA sense of re
 set\, like starting fresh\n\n\nOver time\, regular sessions may support re
 duced baseline stress\, improved recovery\, and a greater ability to trans
 ition out of high-demand states more easily.\nTicket sales and all event q
 ueries handled by Sensorium.
ATTACH;FMTTYPE=image/jpeg:https://www.headplusheart.com/wp-content/uploads
 /2026/04/DEEP-RESET-WEB-2.jpg
END:VEVENT
END:VCALENDAR