BEGIN:VCALENDAR
VERSION:2.0
PRODID:-//wp-events-plugin.com//7.2.3.1//EN
TZID:America/Vancouver
X-WR-TIMEZONE:America/Vancouver
BEGIN:VEVENT
UID:228@headplusheart.com
DTSTART:20260425T103000Z
DTEND:20260425T163000Z
DTSTAMP:20260326T195308Z
URL:https://www.headplusheart.com/events/dance-weavers-foundations-in-djin
 g-in-person/
SUMMARY:Dance Weavers ~ Foundations in DJing In Person
DESCRIPTION:Dance Weavers\nDJ FoundationsTraining\nLearn DJ skills to curat
 e your own seamless musical journey\n&nbsp\;\n\nDo you have a love for mus
 ic and want to go deeper?\n\nDo you make playlists and want to learn to we
 ave them together seamlessly?\n\nHave you always had a secret longing to b
 e a DJ?\n\nCome join this fun and inspirational DJ training for folks want
 ing to learn the foundations of DJ and weaving together a set.\n\nWith thi
 s special In Person hands on opportunity to learn the tactile skills of Dj
 ing and to connect with other embodied music lovers and deepen your craft.
 \n\nGuided by Naomi Jason and Lila Sofiyah\, facilitators and leaders in t
 he Ecstatic Dance field.\n\n&nbsp\;\nYou will receive:\n\n 	DJ skills to c
 reate a continuous mix of mindfully curated music.\n\n\n 	The skills to cr
 aft an DJ set\, a dance journey or if you are already a dance/embodiment/m
 ovement facilitator take your skills to the next level to learn how to cre
 ate mixes for your classes.\n\n\n 	Connection with others on a similar pat
 h\, creating community and possible opportunities for collaboration.\n\nWh
 at’s included:\n\n 	1 Full day in person hands on training\n 	2 online c
 alls live and recorded to set you up and for support and follow up after t
 he in person training\n 	An intuitive guide to DJ software through the len
 s of Traktor Pro (translatable to other software)\n 	The skills to create 
 your own DJ mixes\n 	PDF manual of instruction\n 	A holistic approach to m
 usic curation\n 	Demos\, Practice time and Q &amp\; A in real time\n 	Grou
 p community\, supported by the facilitators\n\nCurriculum\nTopics and Skil
 ls we will go over:\n\n 	Orientation to your gear and software\n 	Foundati
 ons of DJ software\n 	Where to find and purchase music\n 	Organizing your 
 music library\n 	Genres\, BPMs\, Mixing in Key\n 	Music Curation Foundatio
 ns\n 	Basic DJ skills: Syncing\, Cueing\n 	Transitioning tracks seamlessly
 \n 	Intro to Looping\, Effects\, EQ's\n 	Demos to see all this Live\n 	Pra
 ctice to use these skills in real time\n 	And more!\n\nWhy take this train
 ing?\nNaomi and Lila have been guiding ecstatic dance journeys for the pas
 t 16 + years as part of a collective of women holding Dance Temple\, a thr
 iving weekly conscious dance journey that happens both on Salt Spring Isla
 nd and in Victoria on the West Coast of Canada. Many who have experienced 
 Dance Temple have expressed that it’s their favorite dance floor which f
 eels like a testament to the magic that has been woven and seeded through 
 the many years of curating these spaces. Bringing their years of experienc
 e as facilitators\, DJ’s and event producers\, Naomi and Lila along with
  an experienced selection of guest teachers\, give you a well rounded\, in
 teractive\, supportive environment to feel confident and inspired crafting
  conscious dance journeys for your community. As Ecstatic Dance continues 
 to grow\, they are excited to support the expansion of this powerful movem
 ent medicine into more communities around the world.\nDate and Time:\nIN P
 ERSON TRAINING\nSaturday April 25th\n10:30am - 4:30pm\n\nPrivate Venue on 
 Salt Spring Island\n\nIntro Call: April 14th Online\nFollow up Call: May 1
 2th Online\nCost:\n$450 includes in person training day and 2 online calls
  (live and recorded)\n\nThe Foundations in DJing Training is part of the D
 ance Weavers Conscious Dance Program that includes trainings modules in DJ
 ing\, Facilitation and Leadership each module a stand alone training while
  being part of the greater Dance Weavers School.\n\nRegister or find out m
 ore: PayPal or e-transfer/inquiry soulmedicineproductions@gmail.com\n\nWe
  look forward to sharing this journey with you!\n\nwww.danceweavers.net
ATTACH;FMTTYPE=image/jpeg:https://www.headplusheart.com/wp-content/uploads
 /2026/03/foundations-DJing-2026.jpeg
END:VEVENT
END:VCALENDAR