BEGIN:VCALENDAR
VERSION:2.0
PRODID:-//wp-events-plugin.com//7.2.3.1//EN
TZID:America/Vancouver
X-WR-TIMEZONE:America/Vancouver
BEGIN:VEVENT
UID:93@headplusheart.com
DTSTART:20260326T183000Z
DTEND:20260326T203000Z
DTSTAMP:20260303T201715Z
URL:https://www.headplusheart.com/events/community-breathwork-meditation-i
 n-port-moody/
SUMMARY:Community Breathwork Meditation in Port Moody
DESCRIPTION:This group series in Port Moody meets twice-monthly for an inti
 mate gathering that combines facilitated breathwork\, intentional manifest
 ing\, and a supportive community of people committed to growth. This serie
 s is almost sold out. Please email monica@headplusheart.com to see if spac
 e is available.\n\nAll levels are welcome.\n\nBreathwork attunes you to a 
 more centred\, magnetic\, and authentic expression of who you are. In thes
 e guided sessions\, participants connect with a deeper state of clarity an
 d presence.\n\nWHAT EACH SESSION INCLUDES\n\n 	Guided breathwork journey\n
  	Hands-on touch\n 	Tuning forks\n 	Music\n 	Tea and snacks afterward\n\nC
 ost: $65/session
ATTACH;FMTTYPE=image/jpeg:https://www.headplusheart.com/wp-content/uploads
 /2026/02/JanatCL_MichelleDIamond-24-1.jpg
LOCATION:Inlet United Church\, Spring Street\, Port Moody\, BC\, Canada
GEO:49.277282;-122.855464
X-APPLE-STRUCTURED-LOCATION;VALUE=URI;X-ADDRESS=Spring Street\, Port Moody\
 , BC\, Canada;X-APPLE-RADIUS=100;X-TITLE=Inlet United Church:geo:49.277282
 ,-122.855464
END:VEVENT
END:VCALENDAR